BEGIN:VCALENDAR
VERSION:2.0
PRODID:-//RCEDC - ECPv6.15.20//NONSGML v1.0//EN
CALSCALE:GREGORIAN
METHOD:PUBLISH
X-WR-CALNAME:RCEDC
X-ORIGINAL-URL:https://rcedc.org
X-WR-CALDESC:Events for RCEDC
REFRESH-INTERVAL;VALUE=DURATION:PT1H
X-Robots-Tag:noindex
X-PUBLISHED-TTL:PT1H
BEGIN:VTIMEZONE
TZID:America/Chicago
BEGIN:DAYLIGHT
TZOFFSETFROM:-0600
TZOFFSETTO:-0500
TZNAME:CDT
DTSTART:20220313T080000
END:DAYLIGHT
BEGIN:STANDARD
TZOFFSETFROM:-0500
TZOFFSETTO:-0600
TZNAME:CST
DTSTART:20221106T070000
END:STANDARD
BEGIN:DAYLIGHT
TZOFFSETFROM:-0600
TZOFFSETTO:-0500
TZNAME:CDT
DTSTART:20230312T080000
END:DAYLIGHT
BEGIN:STANDARD
TZOFFSETFROM:-0500
TZOFFSETTO:-0600
TZNAME:CST
DTSTART:20231105T070000
END:STANDARD
BEGIN:DAYLIGHT
TZOFFSETFROM:-0600
TZOFFSETTO:-0500
TZNAME:CDT
DTSTART:20240310T080000
END:DAYLIGHT
BEGIN:STANDARD
TZOFFSETFROM:-0500
TZOFFSETTO:-0600
TZNAME:CST
DTSTART:20241103T070000
END:STANDARD
BEGIN:DAYLIGHT
TZOFFSETFROM:-0600
TZOFFSETTO:-0500
TZNAME:CDT
DTSTART:20250309T080000
END:DAYLIGHT
BEGIN:STANDARD
TZOFFSETFROM:-0500
TZOFFSETTO:-0600
TZNAME:CST
DTSTART:20251102T070000
END:STANDARD
END:VTIMEZONE
BEGIN:VEVENT
DTSTART;TZID=America/Chicago:20240827T090000
DTEND;TZID=America/Chicago:20240827T150000
DTSTAMP:20260421T191703
CREATED:20240528T154147Z
LAST-MODIFIED:20240718T174214Z
UID:29924-1724749200-1724770800@rcedc.org
SUMMARY:Boots to Business Reboot
DESCRIPTION:ABOUT THE EVENT\n						\n\n						\n				\n				\n				\n									Learn about the local resources available to assist you in navigating your entrepreneurial journey. Network with other entrepreneurs\, access multiple business loans\, grants\, and technical assistance\, and connect with resource providers. 								\n				\n				\n				\n									Don’t miss this opportunity to learn how to take your business to the next level! Register now to secure your spot! 								\n				\n		\n				\n				\n									\n					\n						\n									REGISTER NOW\n					\n					\n				\n								\n				\n				\n				\n		\n				\n				\n							\n							\n											\n													\n										Thursday\, January 30\, 2025\n									\n								\n											\n													\n										5:00 - 7:00 p.m.\n									\n								\n											\n													\n										Gateway Technical College's SC Johnson iMET Center\, 2320 Renaissance Blvd.\, Sturtevant\, WI 53177\n									\n								\n											\n													\n										FREE to attend
URL:https://rcedc.org/event/boots-to-business-reboot/
LOCATION:iMet Center\, 2320 Renaissance Blvd\, Sturtevant\, WI\, 53177\, United States
ATTACH;FMTTYPE=image/jpeg:https://rcedc.org/wp-content/uploads/2024/05/vecteezy_ai-generative-close-up-of-military-people-shaking-hands_33133157-2-scaled.jpg
END:VEVENT
BEGIN:VEVENT
DTSTART;TZID=America/Chicago:20240731T073000
DTEND;TZID=America/Chicago:20240731T213000
DTSTAMP:20260421T191703
CREATED:20240718T174720Z
LAST-MODIFIED:20240722T182457Z
UID:35175-1722411000-1722461400@rcedc.org
SUMMARY:Talent Focus Series: Career Pathway Planning Through "Pre-Internship" Programming
DESCRIPTION:ABOUT THE EVENT\n						\n\n						\n				\n				\n				\n									Learn about the local resources available to assist you in navigating your entrepreneurial journey. Network with other entrepreneurs\, access multiple business loans\, grants\, and technical assistance\, and connect with resource providers. 								\n				\n				\n				\n									Don’t miss this opportunity to learn how to take your business to the next level! Register now to secure your spot! 								\n				\n		\n				\n				\n									\n					\n						\n									REGISTER NOW\n					\n					\n				\n								\n				\n				\n				\n		\n				\n				\n							\n							\n											\n													\n										Thursday\, January 30\, 2025\n									\n								\n											\n													\n										5:00 - 7:00 p.m.\n									\n								\n											\n													\n										Gateway Technical College's SC Johnson iMET Center\, 2320 Renaissance Blvd.\, Sturtevant\, WI 53177\n									\n								\n											\n													\n										FREE to attend
URL:https://rcedc.org/event/talent-focus-series-career-pathway-planning-through-pre-internship-programming/
LOCATION:iMet Center\, 2320 Renaissance Blvd\, Sturtevant\, WI\, 53177\, United States
ATTACH;FMTTYPE=image/jpeg:https://rcedc.org/wp-content/uploads/2024/07/vecteezy_african-american-informal-business-woman-working-in-the-office_Version-2-scaled.jpg
END:VEVENT
BEGIN:VEVENT
DTSTART;TZID=America/Chicago:20240509T163000
DTEND;TZID=America/Chicago:20240509T190000
DTSTAMP:20260421T191703
CREATED:20240328T155223Z
LAST-MODIFIED:20240528T155422Z
UID:29929-1715272200-1715281200@rcedc.org
SUMMARY:2024 RCEDC ANNUAL CELEBRATION
DESCRIPTION:ABOUT THE EVENT\n						\n\n						\n				\n				\n				\n									Learn about the local resources available to assist you in navigating your entrepreneurial journey. Network with other entrepreneurs\, access multiple business loans\, grants\, and technical assistance\, and connect with resource providers. 								\n				\n				\n				\n									Don’t miss this opportunity to learn how to take your business to the next level! Register now to secure your spot! 								\n				\n		\n				\n				\n									\n					\n						\n									REGISTER NOW\n					\n					\n				\n								\n				\n				\n				\n		\n				\n				\n							\n							\n											\n													\n										Thursday\, January 30\, 2025\n									\n								\n											\n													\n										5:00 - 7:00 p.m.\n									\n								\n											\n													\n										Gateway Technical College's SC Johnson iMET Center\, 2320 Renaissance Blvd.\, Sturtevant\, WI 53177\n									\n								\n											\n													\n										FREE to attend
URL:https://rcedc.org/event/2024-rcedc-annual-celebration/
LOCATION:Veterans Terrace\, 589 Milwaukee Ave\, Burlington\, WI\, 53105\, United States
CATEGORIES:Annual Meetings
ATTACH;FMTTYPE=image/jpeg:https://rcedc.org/wp-content/uploads/2024/03/Annual-Celebration_1200x1000.jpg
ORGANIZER;CN="RCEDC":MAILTO:info@rcedc.org
END:VEVENT
BEGIN:VEVENT
DTSTART;TZID=America/Chicago:20231012T130000
DTEND;TZID=America/Chicago:20231012T160000
DTSTAMP:20260421T191703
CREATED:20230914T185423Z
LAST-MODIFIED:20240520T140150Z
UID:25516-1697115600-1697126400@rcedc.org
SUMMARY:GRC Familiarization Tour - Eastern Racine County
DESCRIPTION:ABOUT THE EVENT\n						\n\n						\n				\n				\n				\n									Learn about the local resources available to assist you in navigating your entrepreneurial journey. Network with other entrepreneurs\, access multiple business loans\, grants\, and technical assistance\, and connect with resource providers. 								\n				\n				\n				\n									Don’t miss this opportunity to learn how to take your business to the next level! Register now to secure your spot! 								\n				\n		\n				\n				\n									\n					\n						\n									REGISTER NOW\n					\n					\n				\n								\n				\n				\n				\n		\n				\n				\n							\n							\n											\n													\n										Thursday\, January 30\, 2025\n									\n								\n											\n													\n										5:00 - 7:00 p.m.\n									\n								\n											\n													\n										Gateway Technical College's SC Johnson iMET Center\, 2320 Renaissance Blvd.\, Sturtevant\, WI 53177\n									\n								\n											\n													\n										FREE to attend
URL:https://rcedc.org/event/grc-familiarization-tour-eastern-racine-county/
LOCATION:Racine Art  Museum\, 441 Main St.\, Racine\, WI\, 53403\, United States
ATTACH;FMTTYPE=image/jpeg:https://rcedc.org/wp-content/uploads/2023/04/racine_lakefront.jpg
ORGANIZER;CN="Cassandra Hathaway":MAILTO:chathaway@rcedc.org
END:VEVENT
BEGIN:VEVENT
DTSTART;TZID=America/Chicago:20231010T073000
DTEND;TZID=America/Chicago:20231010T090000
DTSTAMP:20260421T191703
CREATED:20230913T185833Z
LAST-MODIFIED:20230918T142111Z
UID:25485-1696923000-1696928400@rcedc.org
SUMMARY:Leadership Council - Sustainability Innovation Solutions
DESCRIPTION:ABOUT THE EVENT\n						\n\n						\n				\n				\n				\n									Learn about the local resources available to assist you in navigating your entrepreneurial journey. Network with other entrepreneurs\, access multiple business loans\, grants\, and technical assistance\, and connect with resource providers. 								\n				\n				\n				\n									Don’t miss this opportunity to learn how to take your business to the next level! Register now to secure your spot! 								\n				\n		\n				\n				\n									\n					\n						\n									REGISTER NOW\n					\n					\n				\n								\n				\n				\n				\n		\n				\n				\n							\n							\n											\n													\n										Thursday\, January 30\, 2025\n									\n								\n											\n													\n										5:00 - 7:00 p.m.\n									\n								\n											\n													\n										Gateway Technical College's SC Johnson iMET Center\, 2320 Renaissance Blvd.\, Sturtevant\, WI 53177\n									\n								\n											\n													\n										FREE to attend
URL:https://rcedc.org/event/leadership-council-sustainability-innovation-solutions/
LOCATION:iMet Center\, 2320 Renaissance Blvd\, Sturtevant\, WI\, 53177\, United States
ATTACH;FMTTYPE=image/jpeg:https://rcedc.org/wp-content/uploads/2023/08/sustainability.jpg
ORGANIZER;CN="RCEDC":MAILTO:info@rcedc.org
END:VEVENT
BEGIN:VEVENT
DTSTART;TZID=America/Chicago:20231005T150000
DTEND;TZID=America/Chicago:20231005T170000
DTSTAMP:20260421T191703
CREATED:20230920T204254Z
LAST-MODIFIED:20230920T204551Z
UID:25786-1696518000-1696525200@rcedc.org
SUMMARY:CCB Technology Grand Opening
DESCRIPTION:ABOUT THE EVENT\n						\n\n						\n				\n				\n				\n									Learn about the local resources available to assist you in navigating your entrepreneurial journey. Network with other entrepreneurs\, access multiple business loans\, grants\, and technical assistance\, and connect with resource providers. 								\n				\n				\n				\n									Don’t miss this opportunity to learn how to take your business to the next level! Register now to secure your spot! 								\n				\n		\n				\n				\n									\n					\n						\n									REGISTER NOW\n					\n					\n				\n								\n				\n				\n				\n		\n				\n				\n							\n							\n											\n													\n										Thursday\, January 30\, 2025\n									\n								\n											\n													\n										5:00 - 7:00 p.m.\n									\n								\n											\n													\n										Gateway Technical College's SC Johnson iMET Center\, 2320 Renaissance Blvd.\, Sturtevant\, WI 53177\n									\n								\n											\n													\n										FREE to attend
URL:https://rcedc.org/event/ccb-technology-grand-opening/
LOCATION:CCB Technology\, 8411 Corporate Dr.\, Mount Pleasant\, 53406\, United States
ATTACH;FMTTYPE=image/jpeg:https://rcedc.org/wp-content/uploads/2023/09/ccb_technology_team.jpg
ORGANIZER;CN="Melody Bernhardt":MAILTO:Melody.Bernhardt@ccbtechnology.com
END:VEVENT
BEGIN:VEVENT
DTSTART;TZID=America/Chicago:20230928T080000
DTEND;TZID=America/Chicago:20230928T110000
DTSTAMP:20260421T191703
CREATED:20230914T192004Z
LAST-MODIFIED:20230914T192423Z
UID:25527-1695888000-1695898800@rcedc.org
SUMMARY:Talent Pathway Planning
DESCRIPTION:ABOUT THE EVENT\n						\n\n						\n				\n				\n				\n									Learn about the local resources available to assist you in navigating your entrepreneurial journey. Network with other entrepreneurs\, access multiple business loans\, grants\, and technical assistance\, and connect with resource providers. 								\n				\n				\n				\n									Don’t miss this opportunity to learn how to take your business to the next level! Register now to secure your spot! 								\n				\n		\n				\n				\n									\n					\n						\n									REGISTER NOW\n					\n					\n				\n								\n				\n				\n				\n		\n				\n				\n							\n							\n											\n													\n										Thursday\, January 30\, 2025\n									\n								\n											\n													\n										5:00 - 7:00 p.m.\n									\n								\n											\n													\n										Gateway Technical College's SC Johnson iMET Center\, 2320 Renaissance Blvd.\, Sturtevant\, WI 53177\n									\n								\n											\n													\n										FREE to attend
URL:https://rcedc.org/event/talent-pathway-planning/
LOCATION:iMet Center\, 2320 Renaissance Blvd\, Sturtevant\, WI\, 53177\, United States
ATTACH;FMTTYPE=image/jpeg:https://rcedc.org/wp-content/uploads/2023/08/talent_pathway_web3.jpg
ORGANIZER;CN="RCEDC":MAILTO:info@rcedc.org
END:VEVENT
BEGIN:VEVENT
DTSTART;VALUE=DATE:20230928
DTEND;VALUE=DATE:20230929
DTSTAMP:20260421T191703
CREATED:20230914T192947Z
LAST-MODIFIED:20230919T150104Z
UID:25533-1695859200-1695945599@rcedc.org
SUMMARY:2023 Southeast Wisconsin Open House Expo
DESCRIPTION:ABOUT THE EVENT\n						\n\n						\n				\n				\n				\n									Learn about the local resources available to assist you in navigating your entrepreneurial journey. Network with other entrepreneurs\, access multiple business loans\, grants\, and technical assistance\, and connect with resource providers. 								\n				\n				\n				\n									Don’t miss this opportunity to learn how to take your business to the next level! Register now to secure your spot! 								\n				\n		\n				\n				\n									\n					\n						\n									REGISTER NOW\n					\n					\n				\n								\n				\n				\n				\n		\n				\n				\n							\n							\n											\n													\n										Thursday\, January 30\, 2025\n									\n								\n											\n													\n										5:00 - 7:00 p.m.\n									\n								\n											\n													\n										Gateway Technical College's SC Johnson iMET Center\, 2320 Renaissance Blvd.\, Sturtevant\, WI 53177\n									\n								\n											\n													\n										FREE to attend
URL:https://rcedc.org/event/2023-southeast-wisconsin-open-house-expo/
LOCATION:iMet Center\, 2320 Renaissance Blvd\, Sturtevant\, WI\, 53177\, United States
ATTACH;FMTTYPE=image/jpeg:https://rcedc.org/wp-content/uploads/2022/09/btt_2511.jpg
ORGANIZER;CN="Lee & Associates":MAILTO:jsharpe@lee-associates.com
END:VEVENT
BEGIN:VEVENT
DTSTART;TZID=America/Chicago:20230615T150000
DTEND;TZID=America/Chicago:20230615T170000
DTSTAMP:20260421T191703
CREATED:20230530T150041Z
LAST-MODIFIED:20240718T162559Z
UID:24382-1686841200-1686848400@rcedc.org
SUMMARY:Empowering Small Businesses
DESCRIPTION:ABOUT THE EVENT\n						\n\n						\n				\n				\n				\n									Learn about the local resources available to assist you in navigating your entrepreneurial journey. Network with other entrepreneurs\, access multiple business loans\, grants\, and technical assistance\, and connect with resource providers. 								\n				\n				\n				\n									Don’t miss this opportunity to learn how to take your business to the next level! Register now to secure your spot! 								\n				\n		\n				\n				\n									\n					\n						\n									REGISTER NOW\n					\n					\n				\n								\n				\n				\n				\n		\n				\n				\n							\n							\n											\n													\n										Thursday\, January 30\, 2025\n									\n								\n											\n													\n										5:00 - 7:00 p.m.\n									\n								\n											\n													\n										Gateway Technical College's SC Johnson iMET Center\, 2320 Renaissance Blvd.\, Sturtevant\, WI 53177\n									\n								\n											\n													\n										FREE to attend
URL:https://rcedc.org/event/empowering-small-businesses/
LOCATION:Veterans Terrace\, 589 Milwaukee Ave\, Burlington\, WI\, 53105\, United States
ATTACH;FMTTYPE=image/jpeg:https://rcedc.org/wp-content/uploads/2023/05/business_growth_solutions.jpg
END:VEVENT
END:VCALENDAR