BEGIN:VCALENDAR
VERSION:2.0
PRODID:-//RCEDC - ECPv6.15.20//NONSGML v1.0//EN
CALSCALE:GREGORIAN
METHOD:PUBLISH
X-ORIGINAL-URL:https://rcedc.org
X-WR-CALDESC:Events for RCEDC
REFRESH-INTERVAL;VALUE=DURATION:PT1H
X-Robots-Tag:noindex
X-PUBLISHED-TTL:PT1H
BEGIN:VTIMEZONE
TZID:America/Chicago
BEGIN:DAYLIGHT
TZOFFSETFROM:-0600
TZOFFSETTO:-0500
TZNAME:CDT
DTSTART:20240310T080000
END:DAYLIGHT
BEGIN:STANDARD
TZOFFSETFROM:-0500
TZOFFSETTO:-0600
TZNAME:CST
DTSTART:20241103T070000
END:STANDARD
BEGIN:DAYLIGHT
TZOFFSETFROM:-0600
TZOFFSETTO:-0500
TZNAME:CDT
DTSTART:20250309T080000
END:DAYLIGHT
BEGIN:STANDARD
TZOFFSETFROM:-0500
TZOFFSETTO:-0600
TZNAME:CST
DTSTART:20251102T070000
END:STANDARD
BEGIN:DAYLIGHT
TZOFFSETFROM:-0600
TZOFFSETTO:-0500
TZNAME:CDT
DTSTART:20260308T080000
END:DAYLIGHT
BEGIN:STANDARD
TZOFFSETFROM:-0500
TZOFFSETTO:-0600
TZNAME:CST
DTSTART:20261101T070000
END:STANDARD
BEGIN:DAYLIGHT
TZOFFSETFROM:-0600
TZOFFSETTO:-0500
TZNAME:CDT
DTSTART:20270314T080000
END:DAYLIGHT
BEGIN:STANDARD
TZOFFSETFROM:-0500
TZOFFSETTO:-0600
TZNAME:CST
DTSTART:20271107T070000
END:STANDARD
END:VTIMEZONE
BEGIN:VEVENT
DTSTART;TZID=America/Chicago:20250819T080000
DTEND;TZID=America/Chicago:20250819T093000
DTSTAMP:20260422T173320
CREATED:20250613T155910Z
LAST-MODIFIED:20250613T155915Z
UID:43137-1755590400-1755595800@rcedc.org
SUMMARY:Manufacturers Forum Series
DESCRIPTION:ABOUT THE EVENT\n						\n\n						\n				\n				\n				\n									Learn about the local resources available to assist you in navigating your entrepreneurial journey. Network with other entrepreneurs\, access multiple business loans\, grants\, and technical assistance\, and connect with resource providers. 								\n				\n				\n				\n									Don’t miss this opportunity to learn how to take your business to the next level! Register now to secure your spot! 								\n				\n		\n				\n				\n									\n					\n						\n									REGISTER NOW\n					\n					\n				\n								\n				\n				\n				\n		\n				\n				\n							\n							\n											\n													\n										Thursday\, January 30\, 2025\n									\n								\n											\n													\n										5:00 - 7:00 p.m.\n									\n								\n											\n													\n										Gateway Technical College's SC Johnson iMET Center\, 2320 Renaissance Blvd.\, Sturtevant\, WI 53177\n									\n								\n											\n													\n										FREE to attend
URL:https://rcedc.org/event/manufacturers-forum-series-august-2025/
LOCATION:iMet Center\, 2320 Renaissance Blvd\, Sturtevant\, WI\, 53177\, United States
ATTACH;FMTTYPE=image/jpeg:https://rcedc.org/wp-content/uploads/2025/04/manufacturers_forum-2025-1.jpg
END:VEVENT
BEGIN:VEVENT
DTSTART;TZID=America/Chicago:20250925T090000
DTEND;TZID=America/Chicago:20250925T130000
DTSTAMP:20260422T173320
CREATED:20250903T151635Z
LAST-MODIFIED:20250903T175222Z
UID:46529-1758790800-1758805200@rcedc.org
SUMMARY:2025 Racine and Kenosha County Student Community Tour
DESCRIPTION:ABOUT THE EVENT\n						\n\n						\n				\n				\n				\n									Learn about the local resources available to assist you in navigating your entrepreneurial journey. Network with other entrepreneurs\, access multiple business loans\, grants\, and technical assistance\, and connect with resource providers. 								\n				\n				\n				\n									Don’t miss this opportunity to learn how to take your business to the next level! Register now to secure your spot! 								\n				\n		\n				\n				\n									\n					\n						\n									REGISTER NOW\n					\n					\n				\n								\n				\n				\n				\n		\n				\n				\n							\n							\n											\n													\n										Thursday\, January 30\, 2025\n									\n								\n											\n													\n										5:00 - 7:00 p.m.\n									\n								\n											\n													\n										Gateway Technical College's SC Johnson iMET Center\, 2320 Renaissance Blvd.\, Sturtevant\, WI 53177\n									\n								\n											\n													\n										FREE to attend
URL:https://rcedc.org/event/2025-racine-and-kenosha-county-student-community-tour/
LOCATION:WI
ATTACH;FMTTYPE=image/jpeg:https://rcedc.org/wp-content/uploads/2025/08/girl-and-on-public-transport_44527226.jpg
END:VEVENT
BEGIN:VEVENT
DTSTART;TZID=America/Chicago:20251007T130000
DTEND;TZID=America/Chicago:20251007T150000
DTSTAMP:20260422T173320
CREATED:20250910T183613Z
LAST-MODIFIED:20250910T183645Z
UID:46691-1759842000-1759849200@rcedc.org
SUMMARY:Job Fair at the iMET
DESCRIPTION:ABOUT THE EVENT\n						\n\n						\n				\n				\n				\n									Learn about the local resources available to assist you in navigating your entrepreneurial journey. Network with other entrepreneurs\, access multiple business loans\, grants\, and technical assistance\, and connect with resource providers. 								\n				\n				\n				\n									Don’t miss this opportunity to learn how to take your business to the next level! Register now to secure your spot! 								\n				\n		\n				\n				\n									\n					\n						\n									REGISTER NOW\n					\n					\n				\n								\n				\n				\n				\n		\n				\n				\n							\n							\n											\n													\n										Thursday\, January 30\, 2025\n									\n								\n											\n													\n										5:00 - 7:00 p.m.\n									\n								\n											\n													\n										Gateway Technical College's SC Johnson iMET Center\, 2320 Renaissance Blvd.\, Sturtevant\, WI 53177\n									\n								\n											\n													\n										FREE to attend
URL:https://rcedc.org/event/job-fair-at-the-imet/
LOCATION:iMet Center\, 2320 Renaissance Blvd\, Sturtevant\, WI\, 53177\, United States
ATTACH;FMTTYPE=image/jpeg:https://rcedc.org/wp-content/uploads/2025/09/business-poeple-group_12491165.jpg
END:VEVENT
BEGIN:VEVENT
DTSTART;VALUE=DATE:20251112
DTEND;VALUE=DATE:20251113
DTSTAMP:20260422T173320
CREATED:20250428T192550Z
LAST-MODIFIED:20250812T200910Z
UID:40402-1762905600-1762991999@rcedc.org
SUMMARY:Pitch Perfect: Empowering Regional Startups
DESCRIPTION:ABOUT THE EVENT\n						\n\n						\n				\n				\n				\n									Learn about the local resources available to assist you in navigating your entrepreneurial journey. Network with other entrepreneurs\, access multiple business loans\, grants\, and technical assistance\, and connect with resource providers. 								\n				\n				\n				\n									Don’t miss this opportunity to learn how to take your business to the next level! Register now to secure your spot! 								\n				\n		\n				\n				\n									\n					\n						\n									REGISTER NOW\n					\n					\n				\n								\n				\n				\n				\n		\n				\n				\n							\n							\n											\n													\n										Thursday\, January 30\, 2025\n									\n								\n											\n													\n										5:00 - 7:00 p.m.\n									\n								\n											\n													\n										Gateway Technical College's SC Johnson iMET Center\, 2320 Renaissance Blvd.\, Sturtevant\, WI 53177\n									\n								\n											\n													\n										FREE to attend
URL:https://rcedc.org/event/pitch-perfect-empowering-regional-startups/
LOCATION:WI
ATTACH;FMTTYPE=image/jpeg:https://rcedc.org/wp-content/uploads/2025/04/Pitch-Perfect.jpg
END:VEVENT
BEGIN:VEVENT
DTSTART;TZID=America/Chicago:20251119T071500
DTEND;TZID=America/Chicago:20251119T123000
DTSTAMP:20260422T173320
CREATED:20251023T180535Z
LAST-MODIFIED:20251023T181129Z
UID:49085-1763536500-1763555400@rcedc.org
SUMMARY:AI in Motion: Building Our Region’s Future
DESCRIPTION:ABOUT THE EVENT\n						\n\n						\n				\n				\n				\n									Learn about the local resources available to assist you in navigating your entrepreneurial journey. Network with other entrepreneurs\, access multiple business loans\, grants\, and technical assistance\, and connect with resource providers. 								\n				\n				\n				\n									Don’t miss this opportunity to learn how to take your business to the next level! Register now to secure your spot! 								\n				\n		\n				\n				\n									\n					\n						\n									REGISTER NOW\n					\n					\n				\n								\n				\n				\n				\n		\n				\n				\n							\n							\n											\n													\n										Thursday\, January 30\, 2025\n									\n								\n											\n													\n										5:00 - 7:00 p.m.\n									\n								\n											\n													\n										Gateway Technical College's SC Johnson iMET Center\, 2320 Renaissance Blvd.\, Sturtevant\, WI 53177\n									\n								\n											\n													\n										FREE to attend
URL:https://rcedc.org/event/ai-in-motion-building-our-regions-future/
LOCATION:UW-Parkside\, 930 Wood Rd\, Kenosha\, WI\, 53140\, United States
ATTACH;FMTTYPE=image/jpeg:https://rcedc.org/wp-content/uploads/2025/10/artificial-intelligence-concept-ai-chip-held-by-hands-with_71532182.jpg
END:VEVENT
BEGIN:VEVENT
DTSTART;TZID=America/Chicago:20260122T090000
DTEND;TZID=America/Chicago:20260122T110000
DTSTAMP:20260422T173320
CREATED:20260205T210104Z
LAST-MODIFIED:20260205T210823Z
UID:51936-1769072400-1769079600@rcedc.org
SUMMARY:Racine County Continuous Improvement Roundtable\, Session 1
DESCRIPTION:ABOUT THE EVENT\n						\n\n						\n				\n				\n				\n									Learn about the local resources available to assist you in navigating your entrepreneurial journey. Network with other entrepreneurs\, access multiple business loans\, grants\, and technical assistance\, and connect with resource providers. 								\n				\n				\n				\n									Don’t miss this opportunity to learn how to take your business to the next level! Register now to secure your spot! 								\n				\n		\n				\n				\n									\n					\n						\n									REGISTER NOW\n					\n					\n				\n								\n				\n				\n				\n		\n				\n				\n							\n							\n											\n													\n										Thursday\, January 30\, 2025\n									\n								\n											\n													\n										5:00 - 7:00 p.m.\n									\n								\n											\n													\n										Gateway Technical College's SC Johnson iMET Center\, 2320 Renaissance Blvd.\, Sturtevant\, WI 53177\n									\n								\n											\n													\n										FREE to attend
URL:https://rcedc.org/event/racine-county-continuous-improvement-roundtable-session-1/
LOCATION:iMet Center\, 2320 Renaissance Blvd\, Sturtevant\, WI\, 53177\, United States
ATTACH;FMTTYPE=image/jpeg:https://rcedc.org/wp-content/uploads/2025/12/four-people-in-hard-hats-and-hard-hats-working-on-a-project_65629261.jpg
END:VEVENT
BEGIN:VEVENT
DTSTART;TZID=America/Chicago:20260318T080000
DTEND;TZID=America/Chicago:20260318T093000
DTSTAMP:20260422T173320
CREATED:20260127T144458Z
LAST-MODIFIED:20260127T144742Z
UID:51770-1773820800-1773826200@rcedc.org
SUMMARY:Navigating Change: Strategies for Modern Leaders
DESCRIPTION:ABOUT THE EVENT\n						\n\n						\n				\n				\n				\n									Learn about the local resources available to assist you in navigating your entrepreneurial journey. Network with other entrepreneurs\, access multiple business loans\, grants\, and technical assistance\, and connect with resource providers. 								\n				\n				\n				\n									Don’t miss this opportunity to learn how to take your business to the next level! Register now to secure your spot! 								\n				\n		\n				\n				\n									\n					\n						\n									REGISTER NOW\n					\n					\n				\n								\n				\n				\n				\n		\n				\n				\n							\n							\n											\n													\n										Thursday\, January 30\, 2025\n									\n								\n											\n													\n										5:00 - 7:00 p.m.\n									\n								\n											\n													\n										Gateway Technical College's SC Johnson iMET Center\, 2320 Renaissance Blvd.\, Sturtevant\, WI 53177\n									\n								\n											\n													\n										FREE to attend
URL:https://rcedc.org/event/navigating-change-strategies-for-modern-leaders/
LOCATION:iMet Center\, 2320 Renaissance Blvd\, Sturtevant\, WI\, 53177\, United States
ATTACH;FMTTYPE=image/jpeg:https://rcedc.org/wp-content/uploads/2026/01/Emerging-Leaders-Young-Professionals-e1769032813368.jpg
END:VEVENT
BEGIN:VEVENT
DTSTART;TZID=America/Chicago:20260423T170000
DTEND;TZID=America/Chicago:20260423T183000
DTSTAMP:20260422T173320
CREATED:20260205T202302Z
LAST-MODIFIED:20260205T202330Z
UID:51924-1776963600-1776969000@rcedc.org
SUMMARY:QuickBooks Training Series\, Session 3 - Balance It Out
DESCRIPTION:ABOUT THE EVENT\n						\n\n						\n				\n				\n				\n									Learn about the local resources available to assist you in navigating your entrepreneurial journey. Network with other entrepreneurs\, access multiple business loans\, grants\, and technical assistance\, and connect with resource providers. 								\n				\n				\n				\n									Don’t miss this opportunity to learn how to take your business to the next level! Register now to secure your spot! 								\n				\n		\n				\n				\n									\n					\n						\n									REGISTER NOW\n					\n					\n				\n								\n				\n				\n				\n		\n				\n				\n							\n							\n											\n													\n										Thursday\, January 30\, 2025\n									\n								\n											\n													\n										5:00 - 7:00 p.m.\n									\n								\n											\n													\n										Gateway Technical College's SC Johnson iMET Center\, 2320 Renaissance Blvd.\, Sturtevant\, WI 53177\n									\n								\n											\n													\n										FREE to attend
URL:https://rcedc.org/event/quickbooks-training-series-session-3-balance-it-out/
LOCATION:iMet Center\, 2320 Renaissance Blvd\, Sturtevant\, WI\, 53177\, United States
ATTACH;FMTTYPE=image/jpeg:https://rcedc.org/wp-content/uploads/2026/01/businessman-hand-holding-financial-report-document-with-mock_15687203.jpg
END:VEVENT
BEGIN:VEVENT
DTSTART;TZID=America/Chicago:20260507T163000
DTEND;TZID=America/Chicago:20260507T180000
DTSTAMP:20260422T173320
CREATED:20260319T174131Z
LAST-MODIFIED:20260319T174152Z
UID:52360-1778171400-1778176800@rcedc.org
SUMMARY:Impact 2026
DESCRIPTION:ABOUT THE EVENT\n						\n\n						\n				\n				\n				\n									Learn about the local resources available to assist you in navigating your entrepreneurial journey. Network with other entrepreneurs\, access multiple business loans\, grants\, and technical assistance\, and connect with resource providers. 								\n				\n				\n				\n									Don’t miss this opportunity to learn how to take your business to the next level! Register now to secure your spot! 								\n				\n		\n				\n				\n									\n					\n						\n									REGISTER NOW\n					\n					\n				\n								\n				\n				\n				\n		\n				\n				\n							\n							\n											\n													\n										Thursday\, January 30\, 2025\n									\n								\n											\n													\n										5:00 - 7:00 p.m.\n									\n								\n											\n													\n										Gateway Technical College's SC Johnson iMET Center\, 2320 Renaissance Blvd.\, Sturtevant\, WI 53177\n									\n								\n											\n													\n										FREE to attend
URL:https://rcedc.org/event/impact-2026/
LOCATION:Festival Hall\, 5 Fifth Street\, Racine\, WI\, 53403\, United States
CATEGORIES:Annual Meetings
ATTACH;FMTTYPE=image/jpeg:https://rcedc.org/wp-content/uploads/2026/02/water-droplet-splash-rainy-season-concept_70324111-scaled.jpg
END:VEVENT
END:VCALENDAR