BEGIN:VCALENDAR
VERSION:2.0
PRODID:-//RCEDC - ECPv6.15.20//NONSGML v1.0//EN
CALSCALE:GREGORIAN
METHOD:PUBLISH
X-WR-CALNAME:RCEDC
X-ORIGINAL-URL:https://rcedc.org
X-WR-CALDESC:Events for RCEDC
REFRESH-INTERVAL;VALUE=DURATION:PT1H
X-Robots-Tag:noindex
X-PUBLISHED-TTL:PT1H
BEGIN:VTIMEZONE
TZID:America/Chicago
BEGIN:DAYLIGHT
TZOFFSETFROM:-0600
TZOFFSETTO:-0500
TZNAME:CDT
DTSTART:20250309T080000
END:DAYLIGHT
BEGIN:STANDARD
TZOFFSETFROM:-0500
TZOFFSETTO:-0600
TZNAME:CST
DTSTART:20251102T070000
END:STANDARD
BEGIN:DAYLIGHT
TZOFFSETFROM:-0600
TZOFFSETTO:-0500
TZNAME:CDT
DTSTART:20260308T080000
END:DAYLIGHT
BEGIN:STANDARD
TZOFFSETFROM:-0500
TZOFFSETTO:-0600
TZNAME:CST
DTSTART:20261101T070000
END:STANDARD
BEGIN:DAYLIGHT
TZOFFSETFROM:-0600
TZOFFSETTO:-0500
TZNAME:CDT
DTSTART:20270314T080000
END:DAYLIGHT
BEGIN:STANDARD
TZOFFSETFROM:-0500
TZOFFSETTO:-0600
TZNAME:CST
DTSTART:20271107T070000
END:STANDARD
END:VTIMEZONE
BEGIN:VEVENT
DTSTART;TZID=America/Chicago:20260122T090000
DTEND;TZID=America/Chicago:20260122T110000
DTSTAMP:20260425T111017
CREATED:20260205T210104Z
LAST-MODIFIED:20260205T210823Z
UID:51936-1769072400-1769079600@rcedc.org
SUMMARY:Racine County Continuous Improvement Roundtable\, Session 1
DESCRIPTION:2023 Southeast Wisconsin Open House Expo                \n        \n		        \n					\n				\n			\n		\n						\n				\n				\n				\n									Showcasing Regional Commercial Real Estate Projects								\n				\n					\n				\n		\n					\n		\n				\n				\n									From business park development to infrastructure improvement\, Racine County has been experiencing a surge in industrial real estate development. The 2023 Southeast Wisconsin Real Estate Expo provides a forum for developers\, industrial real estate professionals\, and site selectors to learn what’s happening in Southeast Wisconsin and how beneficial it is to invest in Racine County. Over 70 professionals from the region gather to network\, learn about development in the Chicago-Milwaukee corridor\, and discover opportunities for future investment. No registration or RSVP is required. We look forward to welcoming you to the event on Sept. 28th\, so we can discuss the value of doing business in Racine County. 								\n				\n				\n				\n									\n					\n						\n									DOWNLOAD EVENT FLIER\n					\n					\n				\n								\n				\n				\n				\n									Some buildings (TBD) will be open for touring. For more info\, please contact John Sharpe (773) 355-3030. 								\n				\n				\n		\n				\n				\n									\n				\n				\n					\n				\n		\n					\n		\n		\n		\n				\n				\n							\n							\n											\n													\n										Thursday\, Sept. 28th\n									\n								\n											\n													\n										11:30 a.m. - 1:30 p.m.\n									\n								\n											\n													\n										SC Johnson iMet CenterGateway Technical College2320 Renaissance BlvdSturtevant\, WI\n									\n								\n											\n													\n										No cost to attend\n									\n						\n						\n				\n				\n				\n				\n					\n				\n		\n					\n		\n		\n				\n				\n							\n						\n				\n			\n		\n						\n				\n				\n				\n					        \n			            \n				            \n        \n						\n				\n				\n				\n				\n				\n									EVENT PROVIDED BY 								\n				\n					\n				\n		\n					\n		\n					\n				\n				\n																														\n				\n					\n				\n		\n					\n				\n				\n																														\n				\n					\n				\n		\n					\n				\n				\n																														\n				\n					\n				\n					\n				\n		\n		\n				\n				\n							\n			\n						\n		\n						\n				\n				\n				\n							\n			    \n        \n        \n                    FOLLOW RCEDC ON SOCIAL MEDIA                \n        \n		        \n					\n										Facebook\n												Twitter\n												Instagram\n												Linkedin\n												Youtube\n									\n		\n						\n				\n				\n				\n							\n\n  \n\n\n\n\n  \n    \n       Please leave this field empty.\n          \n      \n    \n  \n\n\n  \n    \n      \n        \n          \n            Sign up for our newsletters
URL:https://rcedc.org/event/racine-county-continuous-improvement-roundtable-session-1/
LOCATION:iMet Center\, 2320 Renaissance Blvd\, Sturtevant\, WI\, 53177\, United States
ATTACH;FMTTYPE=image/jpeg:https://rcedc.org/wp-content/uploads/2025/12/four-people-in-hard-hats-and-hard-hats-working-on-a-project_65629261.jpg
END:VEVENT
BEGIN:VEVENT
DTSTART;TZID=America/Chicago:20260318T080000
DTEND;TZID=America/Chicago:20260318T093000
DTSTAMP:20260425T111017
CREATED:20260127T144458Z
LAST-MODIFIED:20260127T144742Z
UID:51770-1773820800-1773826200@rcedc.org
SUMMARY:Navigating Change: Strategies for Modern Leaders
DESCRIPTION:2023 Southeast Wisconsin Open House Expo                \n        \n		        \n					\n				\n			\n		\n						\n				\n				\n				\n									Showcasing Regional Commercial Real Estate Projects								\n				\n					\n				\n		\n					\n		\n				\n				\n									From business park development to infrastructure improvement\, Racine County has been experiencing a surge in industrial real estate development. The 2023 Southeast Wisconsin Real Estate Expo provides a forum for developers\, industrial real estate professionals\, and site selectors to learn what’s happening in Southeast Wisconsin and how beneficial it is to invest in Racine County. Over 70 professionals from the region gather to network\, learn about development in the Chicago-Milwaukee corridor\, and discover opportunities for future investment. No registration or RSVP is required. We look forward to welcoming you to the event on Sept. 28th\, so we can discuss the value of doing business in Racine County. 								\n				\n				\n				\n									\n					\n						\n									DOWNLOAD EVENT FLIER\n					\n					\n				\n								\n				\n				\n				\n									Some buildings (TBD) will be open for touring. For more info\, please contact John Sharpe (773) 355-3030. 								\n				\n				\n		\n				\n				\n									\n				\n				\n					\n				\n		\n					\n		\n		\n		\n				\n				\n							\n							\n											\n													\n										Thursday\, Sept. 28th\n									\n								\n											\n													\n										11:30 a.m. - 1:30 p.m.\n									\n								\n											\n													\n										SC Johnson iMet CenterGateway Technical College2320 Renaissance BlvdSturtevant\, WI\n									\n								\n											\n													\n										No cost to attend\n									\n						\n						\n				\n				\n				\n				\n					\n				\n		\n					\n		\n		\n				\n				\n							\n						\n				\n			\n		\n						\n				\n				\n				\n					        \n			            \n				            \n        \n						\n				\n				\n				\n				\n				\n									EVENT PROVIDED BY 								\n				\n					\n				\n		\n					\n		\n					\n				\n				\n																														\n				\n					\n				\n		\n					\n				\n				\n																														\n				\n					\n				\n		\n					\n				\n				\n																														\n				\n					\n				\n					\n				\n		\n		\n				\n				\n							\n			\n						\n		\n						\n				\n				\n				\n							\n			    \n        \n        \n                    FOLLOW RCEDC ON SOCIAL MEDIA                \n        \n		        \n					\n										Facebook\n												Twitter\n												Instagram\n												Linkedin\n												Youtube\n									\n		\n						\n				\n				\n				\n							\n\n  \n\n\n\n\n  \n    \n       Please leave this field empty.\n          \n      \n    \n  \n\n\n  \n    \n      \n        \n          \n            Sign up for our newsletters
URL:https://rcedc.org/event/navigating-change-strategies-for-modern-leaders/
LOCATION:iMet Center\, 2320 Renaissance Blvd\, Sturtevant\, WI\, 53177\, United States
ATTACH;FMTTYPE=image/jpeg:https://rcedc.org/wp-content/uploads/2026/01/Emerging-Leaders-Young-Professionals-e1769032813368.jpg
END:VEVENT
BEGIN:VEVENT
DTSTART;TZID=America/Chicago:20260423T170000
DTEND;TZID=America/Chicago:20260423T183000
DTSTAMP:20260425T111017
CREATED:20260205T202302Z
LAST-MODIFIED:20260205T202330Z
UID:51924-1776963600-1776969000@rcedc.org
SUMMARY:QuickBooks Training Series\, Session 3 - Balance It Out
DESCRIPTION:2023 Southeast Wisconsin Open House Expo                \n        \n		        \n					\n				\n			\n		\n						\n				\n				\n				\n									Showcasing Regional Commercial Real Estate Projects								\n				\n					\n				\n		\n					\n		\n				\n				\n									From business park development to infrastructure improvement\, Racine County has been experiencing a surge in industrial real estate development. The 2023 Southeast Wisconsin Real Estate Expo provides a forum for developers\, industrial real estate professionals\, and site selectors to learn what’s happening in Southeast Wisconsin and how beneficial it is to invest in Racine County. Over 70 professionals from the region gather to network\, learn about development in the Chicago-Milwaukee corridor\, and discover opportunities for future investment. No registration or RSVP is required. We look forward to welcoming you to the event on Sept. 28th\, so we can discuss the value of doing business in Racine County. 								\n				\n				\n				\n									\n					\n						\n									DOWNLOAD EVENT FLIER\n					\n					\n				\n								\n				\n				\n				\n									Some buildings (TBD) will be open for touring. For more info\, please contact John Sharpe (773) 355-3030. 								\n				\n				\n		\n				\n				\n									\n				\n				\n					\n				\n		\n					\n		\n		\n		\n				\n				\n							\n							\n											\n													\n										Thursday\, Sept. 28th\n									\n								\n											\n													\n										11:30 a.m. - 1:30 p.m.\n									\n								\n											\n													\n										SC Johnson iMet CenterGateway Technical College2320 Renaissance BlvdSturtevant\, WI\n									\n								\n											\n													\n										No cost to attend\n									\n						\n						\n				\n				\n				\n				\n					\n				\n		\n					\n		\n		\n				\n				\n							\n						\n				\n			\n		\n						\n				\n				\n				\n					        \n			            \n				            \n        \n						\n				\n				\n				\n				\n				\n									EVENT PROVIDED BY 								\n				\n					\n				\n		\n					\n		\n					\n				\n				\n																														\n				\n					\n				\n		\n					\n				\n				\n																														\n				\n					\n				\n		\n					\n				\n				\n																														\n				\n					\n				\n					\n				\n		\n		\n				\n				\n							\n			\n						\n		\n						\n				\n				\n				\n							\n			    \n        \n        \n                    FOLLOW RCEDC ON SOCIAL MEDIA                \n        \n		        \n					\n										Facebook\n												Twitter\n												Instagram\n												Linkedin\n												Youtube\n									\n		\n						\n				\n				\n				\n							\n\n  \n\n\n\n\n  \n    \n       Please leave this field empty.\n          \n      \n    \n  \n\n\n  \n    \n      \n        \n          \n            Sign up for our newsletters
URL:https://rcedc.org/event/quickbooks-training-series-session-3-balance-it-out/
LOCATION:iMet Center\, 2320 Renaissance Blvd\, Sturtevant\, WI\, 53177\, United States
ATTACH;FMTTYPE=image/jpeg:https://rcedc.org/wp-content/uploads/2026/01/businessman-hand-holding-financial-report-document-with-mock_15687203.jpg
END:VEVENT
BEGIN:VEVENT
DTSTART;TZID=America/Chicago:20260507T163000
DTEND;TZID=America/Chicago:20260507T180000
DTSTAMP:20260425T111017
CREATED:20260319T174131Z
LAST-MODIFIED:20260319T174152Z
UID:52360-1778171400-1778176800@rcedc.org
SUMMARY:Impact 2026
DESCRIPTION:2023 Southeast Wisconsin Open House Expo                \n        \n		        \n					\n				\n			\n		\n						\n				\n				\n				\n									Showcasing Regional Commercial Real Estate Projects								\n				\n					\n				\n		\n					\n		\n				\n				\n									From business park development to infrastructure improvement\, Racine County has been experiencing a surge in industrial real estate development. The 2023 Southeast Wisconsin Real Estate Expo provides a forum for developers\, industrial real estate professionals\, and site selectors to learn what’s happening in Southeast Wisconsin and how beneficial it is to invest in Racine County. Over 70 professionals from the region gather to network\, learn about development in the Chicago-Milwaukee corridor\, and discover opportunities for future investment. No registration or RSVP is required. We look forward to welcoming you to the event on Sept. 28th\, so we can discuss the value of doing business in Racine County. 								\n				\n				\n				\n									\n					\n						\n									DOWNLOAD EVENT FLIER\n					\n					\n				\n								\n				\n				\n				\n									Some buildings (TBD) will be open for touring. For more info\, please contact John Sharpe (773) 355-3030. 								\n				\n				\n		\n				\n				\n									\n				\n				\n					\n				\n		\n					\n		\n		\n		\n				\n				\n							\n							\n											\n													\n										Thursday\, Sept. 28th\n									\n								\n											\n													\n										11:30 a.m. - 1:30 p.m.\n									\n								\n											\n													\n										SC Johnson iMet CenterGateway Technical College2320 Renaissance BlvdSturtevant\, WI\n									\n								\n											\n													\n										No cost to attend\n									\n						\n						\n				\n				\n				\n				\n					\n				\n		\n					\n		\n		\n				\n				\n							\n						\n				\n			\n		\n						\n				\n				\n				\n					        \n			            \n				            \n        \n						\n				\n				\n				\n				\n				\n									EVENT PROVIDED BY 								\n				\n					\n				\n		\n					\n		\n					\n				\n				\n																														\n				\n					\n				\n		\n					\n				\n				\n																														\n				\n					\n				\n		\n					\n				\n				\n																														\n				\n					\n				\n					\n				\n		\n		\n				\n				\n							\n			\n						\n		\n						\n				\n				\n				\n							\n			    \n        \n        \n                    FOLLOW RCEDC ON SOCIAL MEDIA                \n        \n		        \n					\n										Facebook\n												Twitter\n												Instagram\n												Linkedin\n												Youtube\n									\n		\n						\n				\n				\n				\n							\n\n  \n\n\n\n\n  \n    \n       Please leave this field empty.\n          \n      \n    \n  \n\n\n  \n    \n      \n        \n          \n            Sign up for our newsletters
URL:https://rcedc.org/event/impact-2026/
LOCATION:Festival Hall\, 5 Fifth Street\, Racine\, WI\, 53403\, United States
CATEGORIES:Annual Meetings
ATTACH;FMTTYPE=image/jpeg:https://rcedc.org/wp-content/uploads/2026/02/water-droplet-splash-rainy-season-concept_70324111-scaled.jpg
END:VEVENT
END:VCALENDAR